BEGIN:VCALENDAR
VERSION:2.0
PRODID:-//Americanos - ECPv6.15.18//NONSGML v1.0//EN
CALSCALE:GREGORIAN
METHOD:PUBLISH
X-ORIGINAL-URL:https://americanos.ca
X-WR-CALDESC:Events for Americanos
REFRESH-INTERVAL;VALUE=DURATION:PT1H
X-Robots-Tag:noindex
X-PUBLISHED-TTL:PT1H
BEGIN:VTIMEZONE
TZID:UTC
BEGIN:STANDARD
TZOFFSETFROM:+0000
TZOFFSETTO:+0000
TZNAME:UTC
DTSTART:20250101T000000
END:STANDARD
END:VTIMEZONE
BEGIN:VEVENT
DTSTART;TZID=UTC:20260516T190000
DTEND;TZID=UTC:20260516T230000
DTSTAMP:20260420T044456
CREATED:20260419T213428Z
LAST-MODIFIED:20260419T213428Z
UID:8691-1778958000-1778972400@americanos.ca
SUMMARY:J ALVAREZ: LUXURY CANADA TOUR 2026
DESCRIPTION:The J Alvarez: Luxury Canada Tour brings the Owner of the System (El Dueño del Sistema) to Montreal for a night dedicated to the evolution of reggaeton. Designed as both a celebration of his massive career hits and a showcase of his latest Luxury era.
URL:https://americanos.ca/event/j-alvarez-luxury-canada-tour-2026/
CATEGORIES:Latin Pop,Reggaeton,Trap,Urban Latin
END:VEVENT
END:VCALENDAR