BEGIN:VCALENDAR
VERSION:2.0
PRODID:-//Americanos - ECPv6.15.18//NONSGML v1.0//EN
CALSCALE:GREGORIAN
METHOD:PUBLISH
X-ORIGINAL-URL:https://americanos.ca
X-WR-CALDESC:Events for Americanos
REFRESH-INTERVAL;VALUE=DURATION:PT1H
X-Robots-Tag:noindex
X-PUBLISHED-TTL:PT1H
BEGIN:VTIMEZONE
TZID:UTC
BEGIN:STANDARD
TZOFFSETFROM:+0000
TZOFFSETTO:+0000
TZNAME:UTC
DTSTART:20250101T000000
END:STANDARD
END:VTIMEZONE
BEGIN:VEVENT
DTSTART;TZID=UTC:20261002T210000
DTEND;TZID=UTC:20261002T230000
DTSTAMP:20260420T091428
CREATED:20260419T213457Z
LAST-MODIFIED:20260419T213457Z
UID:8698-1790974800-1790982000@americanos.ca
SUMMARY:NAJOVE - WORLD TOUR 2026
DESCRIPTION:Najove’s explosive stage presence and his signature sound blends the fast-paced rhythms of Dominican dembow with the melodic sensibilities of the Chilean urban scene.
URL:https://americanos.ca/event/najove-world-tour-2026/
CATEGORIES:Dembow,Latin Urban,Reggaeton
END:VEVENT
END:VCALENDAR