BEGIN:VCALENDAR
VERSION:2.0
PRODID:-//Americanos - ECPv6.15.18//NONSGML v1.0//EN
CALSCALE:GREGORIAN
METHOD:PUBLISH
X-WR-CALNAME:Americanos
X-ORIGINAL-URL:https://americanos.ca
X-WR-CALDESC:Events for Americanos
REFRESH-INTERVAL;VALUE=DURATION:PT1H
X-Robots-Tag:noindex
X-PUBLISHED-TTL:PT1H
BEGIN:VTIMEZONE
TZID:UTC
BEGIN:STANDARD
TZOFFSETFROM:+0000
TZOFFSETTO:+0000
TZNAME:UTC
DTSTART:20250101T000000
END:STANDARD
END:VTIMEZONE
BEGIN:VEVENT
DTSTART;TZID=UTC:20260321T220000
DTEND;TZID=UTC:20260321T220000
DTSTAMP:20260420T044338
CREATED:20260419T213458Z
LAST-MODIFIED:20260419T213458Z
UID:8700-1774130400-1774130400@americanos.ca
SUMMARY:ALGRT - WORLD TOUR 2026
DESCRIPTION:ALGRT: World Tour 2026 brings a premier Latin urban experience to Le Belmont\, blending live performance with DJ sets spanning the full spectrum of modern Caribbean and Latin rhythms.
URL:https://americanos.ca/event/algrt-world-tour-2026/
CATEGORIES:Afrobeat,Dancehall,Reggaeton,Shatta,Urban Latin
END:VEVENT
END:VCALENDAR