BEGIN:VCALENDAR
VERSION:2.0
PRODID:-//Americanos - ECPv6.15.18//NONSGML v1.0//EN
CALSCALE:GREGORIAN
METHOD:PUBLISH
X-ORIGINAL-URL:https://americanos.ca
X-WR-CALDESC:Events for Americanos
REFRESH-INTERVAL;VALUE=DURATION:PT1H
X-Robots-Tag:noindex
X-PUBLISHED-TTL:PT1H
BEGIN:VTIMEZONE
TZID:UTC
BEGIN:STANDARD
TZOFFSETFROM:+0000
TZOFFSETTO:+0000
TZNAME:UTC
DTSTART:20250101T000000
END:STANDARD
END:VTIMEZONE
BEGIN:VEVENT
DTSTART;TZID=UTC:20260911T210000
DTEND;TZID=UTC:20260911T230000
DTSTAMP:20260420T075637
CREATED:20260419T213458Z
LAST-MODIFIED:20260419T213458Z
UID:8701-1789160400-1789167600@americanos.ca
SUMMARY:CSTARZ - WORLD TOUR 2026
DESCRIPTION:CSTARZ: World Tour 2026 brings the cutting edge of the Colombian urban scene to Le National for an immersive\, high-energy night of modern Latin music.
URL:https://americanos.ca/event/cstarz-world-tour-2026/
CATEGORIES:Afro-Fusion,Latin Trap,Reggaeton,Urban Latin
END:VEVENT
END:VCALENDAR